{"text_format":"1","workbook":"xlsx","n_sheets":3,"sheets":["Eingabe","Sonstiges","Hilfe"],"not_rendered":{"charts":3,"images":1,"macros":1,"external_links":0,"defined_names":0,"comments":0,"pivot_tables":0},"unopened":[],"bounds":{"document_bytes":16777216,"sheet_cells":100000,"rows_first":2000,"rows_last":500,"rows_between":2000,"halvings":0,"cell_chars":16384,"cell_head_chars":4096},"cells_cut":0,"cells_raw":0,"read":"whole","date_system":"1900"}

{"sheet":"Eingabe","index":0,"n_rows":79,"n_cols":7,"rows_kept":79,"cut":false,"hidden":false,"merged":[[76,0,76,5],[78,0,78,6],[50,0,50,6],[64,0,64,6],[66,0,66,6],[67,0,67,6],[68,0,68,6],[74,0,74,6],[62,1,62,2],[63,0,63,5],[44,0,44,6],[3,0,3,6],[8,0,8,6],[9,0,9,6],[27,0,27,6],[28,0,28,6]]}
[]
[]
[]
[{"$f":"IF(YEAR(TODAY())>Hilfe!D1,\"Version ist ungültig\",\"Inflation - der schleichende Verlust!\")","v":"Inflation - der schleichende Verlust!"}]
[]
[null,null,"Anlage",20000]
[null,null,"Anlagedauer"]
[]
["Die aktuelle Niedrigzinsphase bewirkt, dass Banken auf Festgeld oder auch Tagesgeld keine oder sogar negative Zinsen weitergeben. Viele Investoren sind sich nicht darüber bewusst, was dies für ihre Geldanlage bedeutet."]
["Die nicht vorhandene Rendite und vor allem auch die negativ wirkende Inflation führen zu einem Vermögens- bzw. Kaufkraftverlust. Bereits seit ca. 10 Jahren ist der Zins niedriger als die Inflation:"]
[]
[]
[]
[]
[]
[]
[]
[]
[]
[]
[]
[]
[]
[]
[]
[null,null,null,null,null,"Daten: Statistisches Bundesamt, BMF"]
[]
["Ein Blick in die Vergangenheit"]
[{"$f":"\"Für Ihre Anlage in Höhe von \"&FIXED(D6,0)&\" € hätte dies bedeutet:\"","v":"Für Ihre Anlage in Höhe von 20.000 € hätte dies bedeutet:"}]
[]
[]
[]
[]
[]
[]
[]
[]
[]
[]
[]
[]
[]
[]
[]
["Viele Experten warnen, dass die Niedrigzinsphase noch lange nicht vorbei ist - evt. wird diese noch weitere 10 oder 20 Jahre dauern. Dies wäre eine Katastrophe für Ihre Anlage!"]
[]
[]
[]
[]
["Ein Zukunftsszenario"]
[{"$f":"\"Für Ihre geplante Anlagedauer von \"&Hilfe!C10&\" Jahren würde dies folgendes bedeuten:\"","v":"Für Ihre geplante Anlagedauer von 20 Jahren würde dies folgendes bedeuten:"}]
[]
[]
[]
[]
[]
[]
[]
[]
[]
[]
[]
[null,"           Anlage heute",null,{"$f":"\"Anlage in \"&Hilfe!C10&\" Jahren\"","v":"Anlage in 20 Jahren"}]
[{"$f":"\"Annahme: Inflation \"&FIXED(Sonstiges!B5*100,2)&\"% p.a., Bankzins = \"&FIXED(Sonstiges!B7*100,2)&\"% p.a., Kosten = 0% p.a.\"","v":"Annahme: Inflation 2,00% p.a., Bankzins = -0,50% p.a., Kosten = 0% p.a."}]
[{"$f":"\"Die Kaufkraft würde auf ca. \"&FIXED(Hilfe!L13,0)&\" € sinken und Sie hätten ca. \"&FIXED(Hilfe!L14,0)&\" € verloren!\"","v":"Die Kaufkraft würde auf ca. 9.690 € sinken und Sie hätten ca. 10.310 € verloren!"}]
["Mit welcher Anlageform sich Kaufkraftverluste vermeiden lassen"]
["Mit einer Investition in die Fondspolice CleVesto Select und einer Anlageaufteilung in Fonds und Sicherheit (Sicherungsguthaben) haben Sie eine gute Chance, den Kaufkraftverlust abzumildern oder sogar ganz zu vermeiden. Bei einem größeren Anteil an renditestarken Anlagen, wie Aktienfonds, könnten Sie sogar eine positive Rendite erwirtschaften. Natürlich gehen Sie damit gewisse Risiken von Kursschwankungen ein - aber Kaufkraft und damit reale Werte verlieren Sie auch bei einer Bankanlage durch die Inflation!"]
[{"$f":"\"Falls die Fondsanlage eine Rendite von \"&FIXED(Sonstiges!B6*100,2)&\"% und das Sicherungsguthaben eine Rendite von \"&FIXED(Sonstiges!B4*100,2)&\"% erwirtschaftet, könnten Sie eine Rendite von ca. \"&FIXED((Hilfe!B8-Hilfe!B6)*100,2)&\"% nach Inflation erwirtschaften!\"","v":"Falls die Fondsanlage eine Rendite von 6,00% und das Sicherungsguthaben eine Rendite von 0,00% erwirtschaftet, könnten Sie eine Rendite von ca. 0,00% nach Inflation erwirtschaften!"}]
["Hierzu müssten Sie lediglich folgende Anlageaufteilung bei CleVesto Select umsetzen:"]
[]
[null,null,null,"Anteil Sicherungsguthaben",{"$f":"Hilfe!D5","v":0.697284045883375}]
[null,null,null,"Anteil Aktienfonds",{"$f":"Hilfe!D6","v":0.302715954116625}]
[]
["Bei dieser Prognose ist folgendes berücksichtigt:"]
[{"$f":"\"Laufzeit: \"&Hilfe!C10&\" Jahre, \"&Hilfe!G7&\", Tarif Helvetia CleVesto Select, Inflation: \"&FIXED(Hilfe!B6*100,2)&\"%, Wunschrendite nach Inflation: \"&FIXED((Hilfe!B8-Hilfe!B6)*100,2)&\"%, Bankzins: \"&FIXED(Sonstiges!B7*100,2)&\"%.\"","v":"Laufzeit: 20 Jahre, Tarifgruppe N, Tarif Helvetia CleVesto Select, Inflation: 2,00%, Wunschrendite nach Inflation: 0,00%, Bankzins: -0,50%."}]
[]
["Helvetia schweizerische Lebensversicherungs-AG\nWeißadlergasse 2\n60311 Frankfurt a.M.\nT +49 (0)69 1332-575\n\nAufsichtsratsvorsitzender: Dr. Markus Gemperle\nVorstand: Dipl.-Kfm. Volker Steck (Vors.), Dipl.-Kfm. Burkhard Gierse, Alexander Schorn\nLandesbank Hessen-Thüringen Girozentrale\nKto: 15425036, BLZ: 500 500 00 , IBAN: DE97500500000015425036, BIC: HELADEFFXXX\nRegistergericht Frankfurt a.M. HRB 28138, USt-IdNr. DE 811311232\n"]
["Quelle: Eigene Berechnungen auf Basis Ihrer Angaben und der gesetzlichen Daten.",null,null,null,null,null,{"$f":"Hilfe!D1","v":2022}]
["Für die Richtigkeit der Angaben kann keine Gewähr übernommen werden, denn Programm- und Berechnungsfehler sind trotz sorgfältigstem Vorgehen nicht ausgeschlossen.                                                                          "]

{"sheet":"Sonstiges","index":1,"n_rows":9,"n_cols":2,"rows_kept":9,"cut":false,"hidden":false,"merged":[[0,0,0,1]]}
["Sonstige Eingaben"]
[]
[]
["Rendite Helvetia Sicherungsguthaben (nach Kosten)",0]
["angenommene Inflation",0.02]
["Rendite Fonds",0.06]
["Bankzins",-5.0000000000000001E-3]
[]
["Wunschrendite (mind. Inflation)"]

{"sheet":"Hilfe","index":2,"n_rows":53,"n_cols":13,"rows_kept":53,"cut":false,"hidden":true,"merged":[[3,2,3,3],[0,9,0,10],[11,8,11,9],[11,10,11,12]]}
["einmalige Verwaltungskosten",0.02,"Datum",2022,1,"Tarifgruppe N",0.01,"bis 5000",1E-3,"Wunschrendite",null,36]
["Stückkosten",{"$f":"VLOOKUP(E6,E1:L5,8,FALSE)","v":36},null,null,2,"Tarifgruppe U",8.0000000000000002E-3,"bis 10.000",2.5000000000000001E-3,1,{"$f":"IF(B6>B5,0%,B6)","v":0.02},36]
["Anlage",{"$f":"Eingabe!D6","v":20000},{"$f":"B3*(1-B1)-B2","v":19564},null,3,"Tarifgruppe V",6.0000000000000001E-3,"bis 50.000",4.0000000000000001E-3,2,{"$f":"IF(K2+0.5%>$B$5,K2,K2+0.5%)","v":2.5000000000000001E-2},28.8]
["ETF",6.0000000000000001E-3,"Aufteilung",null,4,"Tarifgruppe W",4.0000000000000001E-3,"bis 100.000",4.4999999999999997E-3,3,{"$f":"IF(K3+0.5%>$B$5,K3,K3+0.5%)","v":3.0000000000000002E-2},28.8]
["Wertentwicklung Fonds",{"$f":"Sonstiges!B6","v":0.06},"SG",0.697284045883375,5,"Tarifgruppe M",2E-3,"bis 200.000",5.0000000000000001E-3,4,3.5000000000000003E-2,28.8]
["Inflation",{"$f":"Sonstiges!B5","v":0.02},"Fonds",{"$f":"1-D5","v":0.302715954116625},1,"Auswahl",{"$f":"VLOOKUP(E6,E1:G5,3,FALSE)","v":0.01},"bis 300.000",5.4999999999999997E-3,5,0.04,"Stückkosten"]
["Wertentwicklung SG",{"$f":"Sonstiges!B4","v":0},null,null,null,null,{"$f":"VLOOKUP(E6,E1:G5,2,FALSE)","v":"Tarifgruppe N"},"ab 300.000",6.0000000000000001E-3,1,{"$f":"VLOOKUP(J7,J2:K6,2,FALSE)","v":0.02}]
["Wunschrendite",{"$f":"K7","v":0.02}]
["Bankzins",{"$f":"Sonstiges!B7","v":-5.0000000000000001E-3}]
["Anlagedauer",16,{"$f":"B10+4","v":20}]
[]
["Jahr","SG Vermögen","Überschüsse","Fonds Vermögen","Gesamt","Wunscheinkommen","Bankanlage mit Inflation","Bankzins","Werte Zielwertsuche",null,"Grafik"]
[null,null,null,{"$f":"B5","v":0.06},{"$f":"C3","v":19564},null,null,null,"Gesamtwert",{"$f":"VLOOKUP(C10,A14:G53,5)","v":29718.947919567065},0,{"$f":"VLOOKUP(C10,A14:G53,7,FALSE)+M14","v":9690.1992938773619},0]
[1,{"$f":"C3*D5*(1+$B$7)-$B$2*$D$5","v":13616.562848010548},{"$f":"IF(E13<5000,$I$1,IF(E13<10000,$I$2,IF(E13<50000,$I$3,IF(E13<100000,$I$4,IF(E13<200000,$I$5,IF(E13<300000,$I$6,$I$7))))))","v":4.0000000000000001E-3},{"$f":"C3*D6*(1-$G$6+C14+$D$13)-$B$2*$D$6","v":6231.2432380116861},{"$f":"B14+D14","v":19847.806086022232},{"$f":"B3*(1+$B$8)","v":20400},{"$f":"B3*(1-$B$6)+H14","v":19500},{"$f":"IF(A14>$C$10,0,B3*$B$9)","v":-100},"Kaufkrafterhalt",{"$f":"VLOOKUP(C10,A14:G53,6)","v":29718.947919567087},{"$f":"B3","v":20000},{"$f":"K14-L13","v":10309.800706122638},{"$f":"SUM(H14:H53)","v":-2000}]
[2,{"$f":"B14*(1+$B$7)-$B$2*$D$5","v":13591.460622358747},4.0000000000000001E-3,{"$f":"D14*(1-$G$6+C15+$D$13)-$B$2*$D$6","v":6556.8325985161191},{"$f":"B15+D15","v":20148.293220874868},{"$f":"F14*(1+$B$8)","v":20808},{"$f":"G14*(1-$B$6)+H15","v":19010},{"$f":"IF(A15>$C$10,0,H14)","v":-100}]
[3,{"$f":"B15*(1+$B$7)-$B$2*$D$5","v":13566.358396706946},4.0000000000000001E-3,{"$f":"D15*(1-$G$6+C16+$D$13)-$B$2*$D$6","v":6900.0037844877916},20466.362181194738,{"$f":"F15*(1+$B$8)","v":21224.16},{"$f":"G15*(1-$B$6)+H16","v":18529.8},{"$f":"IF(A16>$C$10,0,H15)","v":-100}]
[4,13541.256171055145,4.0000000000000001E-3,7261.7062145019345,20802.962385557079,21648.643199999999,18059.203999999998,-100,null,"Sparzins","Inflation","Differenz","Anlage"]
[5,13516.153945403345,4.0000000000000001E-3,7642.9405757368413,21159.094521140185,22081.616063999998,17598.019919999999,-100,2008,null,null,null,{"$f":"B3","v":20000}]
[6,13491.051719751544,4.0000000000000001E-3,8044.7615924784332,21535.813312229977,22523.24838528,17146.0595216,-100,2009,1.0999999999999999E-2,3.0000000000000001E-3,{"$f":"J19-K19","v":8.0000000000000002E-3},{"$f":"B3*(1+L19)","v":20160}]
[7,13465.949494099743,4.0000000000000001E-3,8468.2809441240697,21934.230438223814,22973.7133529856,16703.138331168,-100,2010,7.0000000000000001E-3,1.0999999999999999E-2,-3.9999999999999992E-3,{"$f":"M19*(1+L20)","v":20079.36}]
[8,13440.847268447942,4.0000000000000001E-3,8914.6703407585701,22355.517609206512,23433.187620045312,16269.075564544641,-100,2011,8.0000000000000002E-3,2.1000000000000001E-2,-1.3000000000000001E-2,19818.328320000001]
[9,13415.745042796141,4.0000000000000001E-3,9385.164764811334,22800.909807607473,23901.851372446217,15843.694053253748,-100,2012,7.0000000000000001E-3,0.02,-1.3000000000000001E-2,19560.69005184]
[10,13390.64281714434,4.0000000000000001E-3,9881.0658877629467,23271.708704907287,24379.888399895142,15426.820172188673,-100,2013,4.0000000000000001E-3,1.4E-2,-0.01,19365.0831513216]
[11,13365.54059149254,4.0000000000000001E-3,10403.745671353947,23769.286262846486,24867.486167893047,15018.283768744899,-100,2014,3.0000000000000001E-3,0.01,-7.0000000000000001E-3,19229.527569262347]
[12,13340.438365840739,4.0000000000000001E-3,10954.650163258861,24295.088529099601,25364.835891250907,14617.918093370001,-100,2015,2E-3,5.0000000000000001E-3,-3.0000000000000001E-3,19171.838986554561]
[13,13315.336140188938,4.0000000000000001E-3,11535.30349772664,24850.639637915578,25872.132609075925,14225.559731502601,-100,2016,1E-3,5.0000000000000001E-3,-4.0000000000000001E-3,19095.151630608343]
[14,13290.233914537137,4.0000000000000001E-3,12147.31211225568,25437.546026792817,26389.575261257443,13841.048536872548,-100,2017,0,1.4999999999999999E-2,-1.4999999999999999E-2,18808.724356149218]
[15,13265.131688885336,4.0000000000000001E-3,12792.369191969288,26057.500880854626,26917.366766482592,13464.227566135096,-100,2018,0,1.7999999999999999E-2,-1.7999999999999999E-2,18470.167317738531]
[16,13240.029463233535,4.0000000000000001E-3,13472.259353987431,26712.288817220964,27455.714101812246,13094.943014812394,-100,2019,0,1.8200000000000001E-2,-1.8200000000000001E-2,18134.01027255569]
[17,13214.927237581735,4.0000000000000001E-3,14188.863584754554,27403.79082233629,28004.828383848489,12733.044154516147,-100,2020,-4.4999999999999997E-3,5.0000000000000001E-3,{"$f":"J30-K30","v":-9.4999999999999998E-3},{"$f":"M29*(1+L30)","v":17961.737174966413}]
[18,13189.825011929934,4.0000000000000001E-3,14944.164443983102,28133.989455913033,28564.92495152546,12378.383271425824,-100,2021,-5.0000000000000001E-4,3.1E-2,{"$f":"J31-K31","v":-3.15E-2},{"$f":"M30*(1+L31)","v":17395.942453954973}]
[19,13164.722786278133,4.0000000000000001E-3,15740.251549609991,28904.974335888124,29136.223450555968,12030.815605997308,-100]
[20,13139.620560626332,4.0000000000000001E-3,16579.327358940733,29718.947919567065,29718.947919567087,11690.199293877362,-100]
[21,13114.518334974531,{"$f":"IF(E33<5000,$I$1,IF(E33<10000,$I$2,IF(E33<50000,$I$3,IF(E33<100000,$I$4,IF(E33<200000,$I$5,IF(E33<300000,$I$6,$I$7))))))","v":4.0000000000000001E-3},17463.713261975336,30578.231596949867,30313.326877958429,11456.395307999814,0,"Schnitt",{"$f":"SUM(J19:J29)/11","v":3.9090909090909098E-3},{"$f":"SUM(K19:K29)/11","v":1.2745454545454548E-2},{"$f":"11","v":11},{"$f":"B3-M29","v":1865.9897274443101}]
[22,13089.41610932273,4.0000000000000001E-3,18395.856003773806,31485.272113096536,30919.593415517596,11227.267401839817,0]
[23,13064.313883670929,4.0000000000000001E-3,19378.334453629392,32442.648337300321,31537.985283827948,11002.722053803021,0]
[24,13039.211658019129,4.0000000000000001E-3,20413.866739777182,33453.078397796315,32168.744989504507,10782.66761272696,0]
[25,13014.109432367328,4.0000000000000001E-3,21505.31776937695,34519.427201744278,32812.119889294598,10567.014260472421,0]
[26,12989.007206715527,4.0000000000000001E-3,22655.707154575106,35644.714361290637,33468.36228708049,10355.673975262973,0]
[27,12963.904981063726,4.0000000000000001E-3,23868.217566573963,36832.122547637686,34137.729532822101,10148.560495757712,0]
[28,12938.802755411925,4.0000000000000001E-3,25146.203540820759,38085.006296232685,34820.484123478542,9945.5892858425577,0]
[29,12913.700529760124,4.0000000000000001E-3,26493.200757676881,39406.901287437009,35516.893805948115,9746.6775001257065,0]
[30,12888.598304108324,4.0000000000000001E-3,27912.935824243235,40801.534128351559,36227.231682067075,9551.7439501231929,0]
[31,12863.496078456523,4.0000000000000001E-3,29409.336584404173,42272.832662860696,36951.776315708419,9360.7090711207293,0]
[32,12838.393852804722,4.0000000000000001E-3,30986.5429856138,43824.936838418522,37690.811842022587,9173.4948896983151,0]
[33,12813.291627152921,4.0000000000000001E-3,32648.918532488748,45462.210159641669,38444.628078863039,8990.024991904349,0]
[34,12788.18940150112,{"$f":"IF(E46<5000,$I$1,IF(E46<10000,$I$2,IF(E46<50000,$I$3,IF(E46<100000,$I$4,IF(E46<200000,$I$5,IF(E46<300000,$I$6,$I$7))))))","v":4.0000000000000001E-3},34401.062358894946,47189.251760396066,39213.5206404403,8810.2244920662615,0]
[35,12763.087175849319,{"$f":"IF(E47<5000,$I$1,IF(E47<10000,$I$2,IF(E47<50000,$I$3,IF(E47<100000,$I$4,IF(E47<200000,$I$5,IF(E47<300000,$I$6,$I$7))))))","v":4.0000000000000001E-3},36247.821951927079,49010.909127776395,39997.791053249108,8634.0200022249355,0]
[36,12737.984950197519,{"$f":"IF(E48<5000,$I$1,IF(E48<10000,$I$2,IF(E48<50000,$I$3,IF(E48<100000,$I$4,IF(E48<200000,$I$5,IF(E48<300000,$I$6,$I$7))))))","v":4.0000000000000001E-3},38194.306562982951,50932.291513180469,40797.746874314093,8461.3396021804365,0]
[37,12712.882724545718,4.4999999999999997E-3,40264.998496317326,52977.881220863041,41613.701811800376,8292.1128101368267,0]
[38,12687.780498893917,4.4999999999999997E-3,42448.543140018424,55136.323638912341,42445.975848036382,8126.2705539340905,0]
[39,12662.678273242116,4.4999999999999997E-3,44751.090966801232,57413.769240043344,43294.895364997108,7963.7451428554086,0]
[40,12637.576047590315,4.4999999999999997E-3,47179.127650143702,59816.703697734018,44160.793272297051,7804.4702399983007,0]